BEGIN:VCALENDAR
VERSION:2.0
PRODID:-//Contratero//ES
CALSCALE:GREGORIAN
METHOD:PUBLISH
BEGIN:VEVENT
UID:UNED MALAGA PAS 2/2025@contratero.es
DTSTAMP:20260423T020011Z
DTSTART:20250918T235959
DTEND:20250919T005959
SUMMARY:Cierre: Servicios informáticos en las dependencias de la s
DESCRIPTION:Servicios informáticos en las dependencias de la sede del Centro Asociado a la UNED en Málaga\\n\\nOrganismo: Dirección del Centro Asociado de la UNED en Málaga\\n\\nVer en Contratero: https://contratero.es/contracts/UNED MALAGA PAS 2/2025
URL:https://contratero.es/contracts/UNED MALAGA PAS 2/2025
STATUS:CONFIRMED
BEGIN:VALARM
TRIGGER:-P1D
ACTION:DISPLAY
DESCRIPTION:Recordatorio: Servicios informáticos en las 
END:VALARM
END:VEVENT
END:VCALENDAR